BEGIN:VCALENDAR
VERSION:2.0
PRODID:-//Academy for Construction Excellence - ECPv6.15.20//NONSGML v1.0//EN
CALSCALE:GREGORIAN
METHOD:PUBLISH
X-WR-CALNAME:Academy for Construction Excellence
X-ORIGINAL-URL:https://academyforconstructionexcellence.com
X-WR-CALDESC:Events for Academy for Construction Excellence
REFRESH-INTERVAL;VALUE=DURATION:PT1H
X-Robots-Tag:noindex
X-PUBLISHED-TTL:PT1H
BEGIN:VTIMEZONE
TZID:America/Phoenix
BEGIN:STANDARD
TZOFFSETFROM:-0700
TZOFFSETTO:-0700
TZNAME:MST
DTSTART:20250101T000000
END:STANDARD
END:VTIMEZONE
BEGIN:VEVENT
DTSTART;TZID=America/Phoenix:20260106T143000
DTEND;TZID=America/Phoenix:20260106T163000
DTSTAMP:20260421T210124
CREATED:20250917T023953Z
LAST-MODIFIED:20250917T024721Z
UID:10000076-1767709800-1767717000@academyforconstructionexcellence.com
SUMMARY:Plan Reading: Architectural Plans
DESCRIPTION:This Academy session teaches attendees the important aspects of how buildings are designed from a functional and spatial perspective. \nAttendees will learn: \n\n\nHow to communicate the design intent\, layout\, and aesthetics of a building \n\n\nHow to define interior and exterior spaces\, finishes\, fixtures\, and spatial relationships \n\n\nHow to coordinate with structural\, MEP\, and civil plans \n\n\nAn introduction to the core architectural drawing types and what each shows \n\n\n  \nThe Plan Reading series consists of these sessions: \n\n\nOverview and Introduction\, 10/28/25 \n\n\nCivil Plans\, 11/18/25 \n\n\nStructural Plans\, 12/4/25 \n\n\nArchitectural Plans\, 1/6/26 \n\n\nMechanical Plans\, 1/27/26 \n\n\nPlumbing Plans\, 2/17/26 \n\n\nElectrical Plans\, 3/10/26 \n\n\nSpecial Systems\, 3/31/26 \n\n\n  \nIt is recommended to participate in all Plan Reading classes in-person. If attending virtually\, you will miss the hands-on activities in this session. \nIf attending virtually\, a link will be sent to you a few days prior to the session. Please keep your camera on for maximum engagement.
URL:https://academyforconstructionexcellence.com/class/plan-reading-architectural-plans/
LOCATION:The Learning Lab\, 5555 E Van Buren St Suite 115\, Phoenix\, AZ\, 85008\, United States
CATEGORIES:Plan Reading
ATTACH;FMTTYPE=image/png:https://academyforconstructionexcellence.com/wp-content/uploads/2024/10/SG_Academy-for-Construction-Excellence_Course-Icons_Plan-Reading-Dark-e1741825295812.png
END:VEVENT
END:VCALENDAR