BEGIN:VCALENDAR
VERSION:2.0
PRODID:-//Academy for Construction Excellence - ECPv6.15.20//NONSGML v1.0//EN
CALSCALE:GREGORIAN
METHOD:PUBLISH
X-ORIGINAL-URL:https://academyforconstructionexcellence.com
X-WR-CALDESC:Events for Academy for Construction Excellence
REFRESH-INTERVAL;VALUE=DURATION:PT1H
X-Robots-Tag:noindex
X-PUBLISHED-TTL:PT1H
BEGIN:VTIMEZONE
TZID:America/Phoenix
BEGIN:STANDARD
TZOFFSETFROM:-0700
TZOFFSETTO:-0700
TZNAME:MST
DTSTART:20250101T000000
END:STANDARD
END:VTIMEZONE
BEGIN:VEVENT
DTSTART;TZID=America/Phoenix:20260421T093000
DTEND;TZID=America/Phoenix:20260421T110000
DTSTAMP:20260420T200954
CREATED:20251024T002538Z
LAST-MODIFIED:20260312T223541Z
UID:10000096-1776763800-1776769200@academyforconstructionexcellence.com
SUMMARY:Making Connections & Networking
DESCRIPTION:Taught by Danielle Feroleto of Small Giants\, this Academy session helps attendees build confidence and approach networking with intention. Attendees will learn how to prepare for an industry event\, enter a room with confidence\, identify the key “must-meets” that make an event productive\, and understand the different levels of business development that help turn conversations into lasting professional relationships.\n\n\n\nThis class is part of the Young Professionals series\, however\, individual class registration is open to all. Register if you or someone on your team is ready to level up their professionalism and presentation of self in the workplace. \n\nIf attending virtually\, a link will be sent to you a few days prior to the session. \n  \nDanielle Feroleto\, Small Giants\, President
URL:https://academyforconstructionexcellence.com/class/making-connections-networking-2/
LOCATION:The Learning Lab\, 5555 E Van Buren St Suite 115\, Phoenix\, AZ\, 85008\, United States
CATEGORIES:Young Professionals
ATTACH;FMTTYPE=image/png:https://academyforconstructionexcellence.com/wp-content/uploads/2025/10/Young-Professionals_Young-Professionals_Logo_Color_Main-e1761237021882.png
ORGANIZER;CN="Small Giants":MAILTO:jenns@smallgiantsonline.com
END:VEVENT
END:VCALENDAR