BEGIN:VCALENDAR
VERSION:2.0
PRODID:-//Academy for Construction Excellence - ECPv6.15.20//NONSGML v1.0//EN
CALSCALE:GREGORIAN
METHOD:PUBLISH
X-WR-CALNAME:Academy for Construction Excellence
X-ORIGINAL-URL:https://academyforconstructionexcellence.com
X-WR-CALDESC:Events for Academy for Construction Excellence
REFRESH-INTERVAL;VALUE=DURATION:PT1H
X-Robots-Tag:noindex
X-PUBLISHED-TTL:PT1H
BEGIN:VTIMEZONE
TZID:America/Phoenix
BEGIN:STANDARD
TZOFFSETFROM:-0700
TZOFFSETTO:-0700
TZNAME:MST
DTSTART:20250101T000000
END:STANDARD
END:VTIMEZONE
BEGIN:VEVENT
DTSTART;TZID=America/Phoenix:20260609T093000
DTEND;TZID=America/Phoenix:20260609T110000
DTSTAMP:20260424T164630
CREATED:20251024T002924Z
LAST-MODIFIED:20251024T003002Z
UID:10000097-1780997400-1781002800@academyforconstructionexcellence.com
SUMMARY:Owning Your Career Growth and Goal-Setting for Young Professionals
DESCRIPTION:Career advancement has the foundation of drive\, eagerness\, commitment\, and a desire to learn. After working so hard to secure a first job\, young professionals are wise to shift their disposition to one of humility and open-mindedness. Being a self-advocate means communicating areas of desired growth and interest\, and a young professional of this disposition will be met with increased opportunities.\n\nAttend this class to:\n\nDetermine short and long term career goals\nIdentify and pursue professional opportunities\nEvaluate how you best receive recognition and constructive criticism\n\n\n\n\nThis class is part of the Young Professionals series\, however\, individual class registration is open to all. Register if you or someone on your team is ready to level up their professionalism and presentation of self in the workplace. \n\nIf attending virtually\, a link will be sent to you a few days prior to the session. \n 
URL:https://academyforconstructionexcellence.com/class/owning-your-career-growth-and-goal-setting-for-young-professionals/
LOCATION:The Learning Lab\, 5555 E Van Buren St Suite 115\, Phoenix\, AZ\, 85008\, United States
CATEGORIES:Young Professionals
ATTACH;FMTTYPE=image/png:https://academyforconstructionexcellence.com/wp-content/uploads/2025/10/Young-Professionals_Young-Professionals_Logo_Color_Main-e1761237021882.png
ORGANIZER;CN="Small Giants":MAILTO:jenns@smallgiantsonline.com
END:VEVENT
END:VCALENDAR