BEGIN:VCALENDAR
VERSION:2.0
PRODID:-//Academy for Construction Excellence - ECPv6.15.20//NONSGML v1.0//EN
CALSCALE:GREGORIAN
METHOD:PUBLISH
X-WR-CALNAME:Academy for Construction Excellence
X-ORIGINAL-URL:https://academyforconstructionexcellence.com
X-WR-CALDESC:Events for Academy for Construction Excellence
REFRESH-INTERVAL;VALUE=DURATION:PT1H
X-Robots-Tag:noindex
X-PUBLISHED-TTL:PT1H
BEGIN:VTIMEZONE
TZID:America/Phoenix
BEGIN:STANDARD
TZOFFSETFROM:-0700
TZOFFSETTO:-0700
TZNAME:MST
DTSTART:20250101T000000
END:STANDARD
END:VTIMEZONE
BEGIN:VEVENT
DTSTART;TZID=America/Phoenix:20260604T143000
DTEND;TZID=America/Phoenix:20260604T163000
DTSTAMP:20260425T211249
CREATED:20260325T232141Z
LAST-MODIFIED:20260325T232141Z
UID:10000121-1780583400-1780590600@academyforconstructionexcellence.com
SUMMARY:Structural Plan Reading
DESCRIPTION:This Academy session provides attendees with the knowledge to interpret drawings that show how a commercial building stands up—the skeleton of the structure. \nAttendees will learn: \n\nThe purpose and types of structural plans\nHow to understand structural symbols\, notes\, and line types (“reading the code”)\nFoundation plans and footing layouts\nStructural framing plans\nSections\, elevations\, and structural details\nHow to read structural schedules\nHow to coordinate with other trades\n\n  \nIt is recommended to participate in all Plan Reading classes in-person. If attending virtually\, you will miss the hands-on activities in this session. \nIf attending virtually\, a link will be sent to you a few days prior to the session. Please keep your camera on for maximum engagement. \n 
URL:https://academyforconstructionexcellence.com/class/structural-plan-reading/
LOCATION:The Learning Lab\, 5555 E Van Buren St Suite 115\, Phoenix\, AZ\, 85008\, United States
CATEGORIES:Plan Reading
ATTACH;FMTTYPE=image/png:https://academyforconstructionexcellence.com/wp-content/uploads/2024/10/SG_Academy-for-Construction-Excellence_Course-Icons_Plan-Reading-Dark-e1741825295812.png
END:VEVENT
END:VCALENDAR