BEGIN:VCALENDAR
VERSION:2.0
PRODID:-//Academy for Construction Excellence - ECPv6.15.20//NONSGML v1.0//EN
CALSCALE:GREGORIAN
METHOD:PUBLISH
X-ORIGINAL-URL:https://academyforconstructionexcellence.com
X-WR-CALDESC:Events for Academy for Construction Excellence
REFRESH-INTERVAL;VALUE=DURATION:PT1H
X-Robots-Tag:noindex
X-PUBLISHED-TTL:PT1H
BEGIN:VTIMEZONE
TZID:America/Phoenix
BEGIN:STANDARD
TZOFFSETFROM:-0700
TZOFFSETTO:-0700
TZNAME:MST
DTSTART:20250101T000000
END:STANDARD
END:VTIMEZONE
BEGIN:VEVENT
DTSTART;TZID=America/Phoenix:20260108T100000
DTEND;TZID=America/Phoenix:20260108T110000
DTSTAMP:20260425T212511
CREATED:20251106T060800Z
LAST-MODIFIED:20251106T060800Z
UID:10000105-1767866400-1767870000@academyforconstructionexcellence.com
SUMMARY:Introduction to AI in Construction (virtual workshop)
DESCRIPTION:In this guided workshop\, you will explore AI and how it works. In this 1-hour virtual session\, attendees will be introduced and get familiar with various AI platforms and practices. \nAttendees will: \n\nMaster the art of writing effective prompts to get the results you want from any large language model (LLM).\nGain a clear understanding of the key AI types\, including generative AI\, and the major players and trends shaping the industry.\nLearn how to protect sensitive information and use AI tools responsibly by following essential security protocols.\nGet hands-on experience creating a specialized AI assistant tailored to your specific needs without writing a single line of code.\n\nAttendees for this class are required to have cameras on – and be prepared with a ChatGPT account.\n\n\n \nTaught by Brennan Gerle of Small Giants. \nA link will be sent to you a few days prior to the session.
URL:https://academyforconstructionexcellence.com/class/introduction-to-ai-in-construction-virtual-workshop-2/
LOCATION:Virtual
CATEGORIES:AI,Skills
ATTACH;FMTTYPE=image/png:https://academyforconstructionexcellence.com/wp-content/uploads/2024/11/SG_Academy-for-Construction-Excellence_Course-Icons_AI-for-Construction-Dark-e1741824948487.png
ORGANIZER;CN="Small Giants":MAILTO:jenns@smallgiantsonline.com
END:VEVENT
BEGIN:VEVENT
DTSTART;TZID=America/Phoenix:20260129T150000
DTEND;TZID=America/Phoenix:20260129T163000
DTSTAMP:20260425T212511
CREATED:20251120T151919Z
LAST-MODIFIED:20251120T152702Z
UID:10000100-1769698800-1769704200@academyforconstructionexcellence.com
SUMMARY:Leadership DNA
DESCRIPTION:This is a two-part class. Register for Leadership DNA Part 2 on 4/9.\n\nThis Academy session helps participants uncover what drives their leadership approach — and how to lead with greater awareness and impact. Attendees will explore the most common leadership styles\, identify the traits and tendencies that shape their own\, and learn practical ways to strengthen effectiveness and connection with their teams. \n\n  \nThrough guided reflection and discussion\, participants will gain insight into their leadership blind spots\, discover strategies for meaningful engagement with followers\, and define the kind of leader they aspire to be.\n\n\nThis class is part of the Building Leaders Group curriculum\, however\, individual class registration is open to all. Register if you or someone on your team is ready to dive into deeper leadership growth.\n\nIf attending virtually\, a link will be sent to you a few days prior to the session.\n 
URL:https://academyforconstructionexcellence.com/class/leadership-dna-2/
LOCATION:The Learning Lab\, 5555 E Van Buren St Suite 115\, Phoenix\, AZ\, 85008\, United States
CATEGORIES:Leadership,Skills
ATTACH;FMTTYPE=image/png:https://academyforconstructionexcellence.com/wp-content/uploads/2025/10/Building-Leaders_Building-Leaders_Logo_Color_Main-e1761250517232.png
ORGANIZER;CN="Small Giants":MAILTO:jenns@smallgiantsonline.com
END:VEVENT
END:VCALENDAR