BEGIN:VCALENDAR
VERSION:2.0
PRODID:-//Academy for Construction Excellence - ECPv6.15.20//NONSGML v1.0//EN
CALSCALE:GREGORIAN
METHOD:PUBLISH
X-ORIGINAL-URL:https://academyforconstructionexcellence.com
X-WR-CALDESC:Events for Academy for Construction Excellence
REFRESH-INTERVAL;VALUE=DURATION:PT1H
X-Robots-Tag:noindex
X-PUBLISHED-TTL:PT1H
BEGIN:VTIMEZONE
TZID:America/Phoenix
BEGIN:STANDARD
TZOFFSETFROM:-0700
TZOFFSETTO:-0700
TZNAME:MST
DTSTART:20250101T000000
END:STANDARD
END:VTIMEZONE
BEGIN:VEVENT
DTSTART;TZID=America/Phoenix:20260910T150000
DTEND;TZID=America/Phoenix:20260910T163000
DTSTAMP:20260419T151344
CREATED:20260130T191239Z
LAST-MODIFIED:20260213T163645Z
UID:10000115-1789052400-1789057800@academyforconstructionexcellence.com
SUMMARY:A Focus on Client Retention for Project Managers
DESCRIPTION:Taught by Danielle Feroleto of Small Giants\, this Academy session helps project managers understand the importance of building and maintaining strong client relationships to secure repeat business. Project managers play a key role in client satisfaction by managing expectations\, communicating effectively\, and delivering projects successfully. This class provides practical strategies to strengthen client trust and foster long-term partnerships. \nAttendees will learn: \n\nHow project managers influence client satisfaction and retention\nTechniques to communicate and manage expectations effectively\nStrategies to build long-term relationships and secure repeat work\n\nStrengthen your leadership\, communication\, and technical decision-making skills by enrolling in the full Project Manager Series. This seven-part program is designed specifically for construction project managers and covers the critical competencies needed to successfully lead projects\, teams\, and client relationships from pursuit through closeout. In each class\, attendees will focus on key responsibilities project managers manage throughout the project lifecycle: \n\nHow to Be an Elite Project Manager\, 3/5\nPublic Speaking for Project Managers\, 4/1\nFinance in Construction for Project Managers\, 5/12\nPrompt Pay Essentials for Project Managers\, 6/11\nWhat Project Managers Need to Know About Liens and Bonds\, 7/22\nThe Vital Role of Project Managers in the Pursuit Process\, 8/5\nA Focus on Client Retention for Project Managers\, 9/10\n\n\nIf attending virtually\, a link will be sent to you a few days prior to the session. \nThis class is part of the 7-class Project Manager Series\, individual class registration is open to all.
URL:https://academyforconstructionexcellence.com/class/a-focus-on-client-retention-for-project-managers/
LOCATION:The Learning Lab\, 5555 E Van Buren St Suite 115\, Phoenix\, AZ\, 85008\, United States
CATEGORIES:Project Managers
ATTACH;FMTTYPE=image/png:https://academyforconstructionexcellence.com/wp-content/uploads/2024/04/project.png
ORGANIZER;CN="Small Giants":MAILTO:jenns@smallgiantsonline.com
END:VEVENT
BEGIN:VEVENT
DTSTART;TZID=America/Phoenix:20261110T143000
DTEND;TZID=America/Phoenix:20261110T163000
DTSTAMP:20260419T151344
CREATED:20260325T232615Z
LAST-MODIFIED:20260325T232615Z
UID:10000122-1794321000-1794328200@academyforconstructionexcellence.com
SUMMARY:Electrical Plan Reading
DESCRIPTION:This Academy session provides an introduction to reading and understanding electrical plans. \nAttendees will learn: \n\n\nHow to interpret electrical symbols\, notes\, and abbreviations \n\n\nHow to read lighting plans \n\n\nHow to understand branch power layouts \n\n\nHow to follow single-line (one-line) diagrams \n\n\nHow to use panel and fixture schedules \n\n\nHow special systems are shown on plans (audio-visual\, fire alarm\, telecom\, security) \n\n\n\nIt is recommended to participate in all Plan Reading classes in-person. If attending virtually\, you will miss the hands-on activities in this session.\n  \nIf attending virtually\, a link will be sent to you a few days prior to the session. Please keep your camera on for maximum engagement.
URL:https://academyforconstructionexcellence.com/class/electrical-plan-reading/
LOCATION:The Learning Lab\, 5555 E Van Buren St Suite 115\, Phoenix\, AZ\, 85008\, United States
CATEGORIES:Plan Reading
ATTACH;FMTTYPE=image/png:https://academyforconstructionexcellence.com/wp-content/uploads/2024/10/SG_Academy-for-Construction-Excellence_Course-Icons_Plan-Reading-Dark-e1741825295812.png
END:VEVENT
END:VCALENDAR