BEGIN:VCALENDAR
VERSION:2.0
PRODID:-//Academy for Construction Excellence - ECPv6.15.20//NONSGML v1.0//EN
CALSCALE:GREGORIAN
METHOD:PUBLISH
X-WR-CALNAME:Academy for Construction Excellence
X-ORIGINAL-URL:https://academyforconstructionexcellence.com
X-WR-CALDESC:Events for Academy for Construction Excellence
REFRESH-INTERVAL;VALUE=DURATION:PT1H
X-Robots-Tag:noindex
X-PUBLISHED-TTL:PT1H
BEGIN:VTIMEZONE
TZID:America/Phoenix
BEGIN:STANDARD
TZOFFSETFROM:-0700
TZOFFSETTO:-0700
TZNAME:MST
DTSTART:20240101T000000
END:STANDARD
END:VTIMEZONE
BEGIN:VEVENT
DTSTART;TZID=America/Phoenix:20251204T143000
DTEND;TZID=America/Phoenix:20251204T163000
DTSTAMP:20260421T114446
CREATED:20250917T003554Z
LAST-MODIFIED:20250917T003706Z
UID:10000075-1764858600-1764865800@academyforconstructionexcellence.com
SUMMARY:Plan Reading: Structural Plans
DESCRIPTION:This Academy session provides attendees with the knowledge to interpret drawings that show how a commercial building stands up—the skeleton of the structure. \nAttendees will learn: \n\nThe purpose and types of structural plans\nHow to understand structural symbols\, notes\, and line types (“reading the code”)\nFoundation plans and footing layouts\nStructural framing plans\nSections\, elevations\, and structural details\nHow to read structural schedules\nHow to coordinate with other trades\n\n  \nThe Plan Reading series consists of these sessions: \n\nOverview and Introduction\, 10/28/25\nCivil Plans\, 11/18/25\nStructural Plans\, 12/4/25\nArchitectural Plans\, 1/6/26\nMechanical Plans\, 1/27/26\nPlumbing Plans\, 2/17/26\nElectrical Plans\, 3/10/26\nSpecial Systems\, 3/31/26\n\n  \nIt is recommended to participate in all Plan Reading classes in-person. If attending virtually\, you will miss the hands-on activities in this session. \nIf attending virtually\, a link will be sent to you a few days prior to the session. Please keep your camera on for maximum engagement. \n 
URL:https://academyforconstructionexcellence.com/class/plan-reading-structural-plans/
LOCATION:The Learning Lab\, 5555 E Van Buren St Suite 115\, Phoenix\, AZ\, 85008\, United States
CATEGORIES:Plan Reading
ATTACH;FMTTYPE=image/png:https://academyforconstructionexcellence.com/wp-content/uploads/2024/10/SG_Academy-for-Construction-Excellence_Course-Icons_Plan-Reading-Dark-e1741825295812.png
END:VEVENT
BEGIN:VEVENT
DTSTART;TZID=America/Phoenix:20251209T150000
DTEND;TZID=America/Phoenix:20251209T163000
DTSTAMP:20260421T114446
CREATED:20250708T015541Z
LAST-MODIFIED:20251003T065406Z
UID:10000070-1765292400-1765297800@academyforconstructionexcellence.com
SUMMARY:Owning Your Career Growth
DESCRIPTION:Career advancement has the foundation of drive\, eagerness\, commitment\, and a desire to learn. After establishing themselves at a company that matches priorities and goals\, professionals often find that a growth mind-set prepares them for opportunities and leadership. Clarify your professional goals\, pursue new opportunities\, and better understand how you receive feedback. For those already established in their careers\, this session focuses on using a growth mindset\, accountability\, and productive behaviors to prepare for what’s next. \n  \nAttend this class to: \n\nDetermine short and long term career goals\nIdentify and pursue professional opportunities\nEvaluate how you best receive recognition and constructive criticism\n\n\n\n  \nIf attending virtually\, a link will be sent to you a few days prior to the session.
URL:https://academyforconstructionexcellence.com/class/be-your-own-advocate-career-growth/
LOCATION:The Learning Lab\, 5555 E Van Buren St Suite 115\, Phoenix\, AZ\, 85008\, United States
CATEGORIES:Leadership
ATTACH;FMTTYPE=image/png:https://academyforconstructionexcellence.com/wp-content/uploads/2024/10/SG_Academy-for-Construction-Excellence_Course-Icons_Superintendent-Leadership-Dark-e1741825310838.png
ORGANIZER;CN="Small Giants":MAILTO:jenns@smallgiantsonline.com
END:VEVENT
END:VCALENDAR