BEGIN:VCALENDAR
VERSION:2.0
PRODID:-//Academy for Construction Excellence - ECPv6.15.20//NONSGML v1.0//EN
CALSCALE:GREGORIAN
METHOD:PUBLISH
X-WR-CALNAME:Academy for Construction Excellence
X-ORIGINAL-URL:https://academyforconstructionexcellence.com
X-WR-CALDESC:Events for Academy for Construction Excellence
REFRESH-INTERVAL;VALUE=DURATION:PT1H
X-Robots-Tag:noindex
X-PUBLISHED-TTL:PT1H
BEGIN:VTIMEZONE
TZID:America/Phoenix
BEGIN:STANDARD
TZOFFSETFROM:-0700
TZOFFSETTO:-0700
TZNAME:MST
DTSTART:20250101T000000
END:STANDARD
END:VTIMEZONE
BEGIN:VEVENT
DTSTART;TZID=America/Phoenix:20260305T150000
DTEND;TZID=America/Phoenix:20260305T163000
DTSTAMP:20260420T215838
CREATED:20260130T182221Z
LAST-MODIFIED:20260203T234040Z
UID:10000109-1772722800-1772728200@academyforconstructionexcellence.com
SUMMARY:How To Be An Elite Project Manager
DESCRIPTION:This Academy session\, taught by Anthony “AJ” Jeffers of Hensel Phelps\, explores what it really takes to be a strong and successful project manager in today’s construction environment. Project management requires a mix of leadership\, organization\, and technical knowledge\, and this course is designed to help attendees strengthen those skills. Whether you’re newer to the role or looking to grow your experience\, this session will provide practical takeaways you can apply right away. \nAttendees will learn: \n\nHow to build strong leadership within your team\nWhy clear and effective communication is critical to project success\nWays to strengthen decision-making and overall project oversight\n\nStrengthen your leadership\, communication\, and technical decision-making skills by enrolling in the full Project Manager Series. This seven-part program is designed specifically for construction project managers and covers the critical competencies needed to successfully lead projects\, teams\, and client relationships from pursuit through closeout. In each class\, attendees will focus on key responsibilities project managers manage throughout the project lifecycle: \n\nHow to Be an Elite Project Manager\, 3/5\nPublic Speaking for Project Managers\, 4/1\nFinance in Construction for Project Managers\, 5/12\nPrompt Pay Essentials for Project Managers\, 6/11\nWhat Project Managers Need to Know About Liens and Bonds\, 7/22\nThe Vital Role of Project Managers in the Pursuit Process\, 8/5\nA Focus on Client Retention for Project Managers\, 9/10\n\n\nIf attending virtually\, a link will be sent to you a few days prior to the session. \nThis class is part of the 7-class Project Manager Series\, individual class registration is open to all.
URL:https://academyforconstructionexcellence.com/class/how-to-be-an-elite-project-manager/
LOCATION:The Learning Lab\, 5555 E Van Buren St Suite 115\, Phoenix\, AZ\, 85008\, United States
CATEGORIES:Project Managers
ATTACH;FMTTYPE=image/png:https://academyforconstructionexcellence.com/wp-content/uploads/2024/04/project.png
ORGANIZER;CN="Small Giants":MAILTO:jenns@smallgiantsonline.com
END:VEVENT
BEGIN:VEVENT
DTSTART;TZID=America/Phoenix:20260305T150000
DTEND;TZID=America/Phoenix:20260305T163000
DTSTAMP:20260420T215838
CREATED:20260130T192044Z
LAST-MODIFIED:20260213T211917Z
UID:10000116-1772722800-1772728200@academyforconstructionexcellence.com
SUMMARY:Project Manager Series
DESCRIPTION:Project Manager Series – Full Program Registration\n  \nStrengthen your leadership\, communication\, and technical decision-making skills by enrolling in the full Project Manager Series. This seven-part program is designed specifically for construction project managers and covers the critical competencies needed to successfully lead projects\, teams\, and client relationships from pursuit through closeout. \nBy registering for the full series\, attendees will: \n\n\nDevelop advanced project management and leadership skills \n\n\nEnhance communication\, financial\, and contractual understanding \n\n\nGain practical tools to manage risk\, payments\, and client expectations \n\n\nApply learning across the project lifecycle\, with each session building on the last \n\n\nSeries Schedule: \n\nHow to Be an Elite Project Manager – 3/5: Anthony Jeffers\, Hensel Phelps \nPublic Speaking for Project Managers – 4/1: Brandon Montero\, CHASSE Building Team\nFinance in Construction for Project Managers – 5/12: Matt Waller\, PopeWaller\nPrompt Pay Essentials for Project Managers – 6/11: Kevin Estevez\, Holden Willits\nWhat Project Managers Need to Know About Liens and Bonds– 7/22: Amy Houk\, RCS Preliminary Lien Services\nThe Vital Role of a Project Manager in the Pursuit Process – 8/5: Margaret Kinsey\, Small Giants\nA Focus on Client Retention for Project Managers – 9/10: Danielle Feroleto\, Small Giants\n\nAll sessions run from 3:00–4:30 PM. \nIt is recommended to attend Project Manager Series classes in person for the best overall learning experience.
URL:https://academyforconstructionexcellence.com/class/project-manager-series/
LOCATION:The Learning Lab\, 5555 E Van Buren St Suite 115\, Phoenix\, AZ\, 85008\, United States
CATEGORIES:Project Managers
ATTACH;FMTTYPE=image/png:https://academyforconstructionexcellence.com/wp-content/uploads/2024/04/project.png
ORGANIZER;CN="Small Giants":MAILTO:jenns@smallgiantsonline.com
END:VEVENT
BEGIN:VEVENT
DTSTART;TZID=America/Phoenix:20260310T143000
DTEND;TZID=America/Phoenix:20260310T163000
DTSTAMP:20260420T215838
CREATED:20250918T235253Z
LAST-MODIFIED:20250918T235253Z
UID:10000079-1773153000-1773160200@academyforconstructionexcellence.com
SUMMARY:Plan Reading: Electrical Plans
DESCRIPTION:This Academy session provides an introduction to reading and understanding electrical plans. \nAttendees will learn: \n\n\nHow to interpret electrical symbols\, notes\, and abbreviations \n\n\nHow to read lighting plans \n\n\nHow to understand branch power layouts \n\n\nHow to follow single-line (one-line) diagrams \n\n\nHow to use panel and fixture schedules \n\n\nHow special systems are shown on plans (audio-visual\, fire alarm\, telecom\, security) \n\n\n  \n\nThe Plan Reading series consists of these sessions:\n\nOverview and Introduction\, 10/28/25\nCivil Plans\, 11/18/25\nStructural Plans\, 12/4/25\nArchitectural Plans\, 1/6/26\nMechanical Plans\, 1/27/26\nPlumbing Plans\, 2/17/26\nElectrical Plans\, 3/10/26\nSpecial Systems\, 3/31/26\n\nIt is recommended to participate in all Plan Reading classes in-person. If attending virtually\, you will miss the hands-on activities in this session.\n  \nIf attending virtually\, a link will be sent to you a few days prior to the session. Please keep your camera on for maximum engagement.
URL:https://academyforconstructionexcellence.com/class/plan-reading-electrical-plans/
LOCATION:The Learning Lab\, 5555 E Van Buren St Suite 115\, Phoenix\, AZ\, 85008\, United States
CATEGORIES:Plan Reading
ATTACH;FMTTYPE=image/png:https://academyforconstructionexcellence.com/wp-content/uploads/2024/10/SG_Academy-for-Construction-Excellence_Course-Icons_Plan-Reading-Dark-e1741825295812.png
END:VEVENT
BEGIN:VEVENT
DTSTART;TZID=America/Phoenix:20260312T150000
DTEND;TZID=America/Phoenix:20260312T163000
DTSTAMP:20260420T215838
CREATED:20251120T152813Z
LAST-MODIFIED:20251120T152813Z
UID:10000101-1773327600-1773333000@academyforconstructionexcellence.com
SUMMARY:Your Role as a Mentor
DESCRIPTION:This Academy session invites attendees to take an intentional look at their influence as mentors. Attendees will explore what it means to guide and support others in their professional journey\, and how to approach mentorship with purpose and authenticity. Attendees will identify who may view them as a mentor\, learn strategies for meaningful outreach to young professionals\, and develop best practices to make mentorship a part of their everyday leadership. \n\n\n\nThis class is part of the Building Leaders Group curriculum\, however\, individual class registration is open to all. Register if you or someone on your team is ready to dive into deeper leadership growth.\n\nIf attending virtually\, a link will be sent to you a few days prior to the session.\n 
URL:https://academyforconstructionexcellence.com/class/your-role-as-a-mentor-2/
LOCATION:The Learning Lab\, 5555 E Van Buren St Suite 115\, Phoenix\, AZ\, 85008\, United States
CATEGORIES:Leadership,Skills
ATTACH;FMTTYPE=image/png:https://academyforconstructionexcellence.com/wp-content/uploads/2025/10/Building-Leaders_Building-Leaders_Logo_Color_Main-e1761250517232.png
ORGANIZER;CN="Small Giants":MAILTO:jenns@smallgiantsonline.com
END:VEVENT
BEGIN:VEVENT
DTSTART;TZID=America/Phoenix:20260317T093000
DTEND;TZID=America/Phoenix:20260317T110000
DTSTAMP:20260420T215838
CREATED:20251024T001306Z
LAST-MODIFIED:20251024T001419Z
UID:10000095-1773739800-1773745200@academyforconstructionexcellence.com
SUMMARY:Speaking with Confidence and Effective Communication
DESCRIPTION:Communication is the foundation for all relationships\, both professional and personal. In this class\, attendees will explore important components for effective and confident interactions. Attend this class to learn how to speak with confidence as you share your ideas in a variety of settings.\n\nWhat attendees will learn:\n\nThe importance of eye contact\nVarious speaking habits that add to or detract from your message\nWord selection to communicate exactly what you mean\n\n\nThis class is part of the Young Professionals series\, however\, individual class registration is open to all. Register if you or someone on your team is ready to level up their professionalism and presentation of self in the workplace. \n\nIf attending virtually\, a link will be sent to you a few days prior to the session. \n 
URL:https://academyforconstructionexcellence.com/class/speaking-with-confidence-and-effective-communication-2/
LOCATION:The Learning Lab\, 5555 E Van Buren St Suite 115\, Phoenix\, AZ\, 85008\, United States
CATEGORIES:Young Professionals
ATTACH;FMTTYPE=image/png:https://academyforconstructionexcellence.com/wp-content/uploads/2025/10/Young-Professionals_Young-Professionals_Logo_Color_Main-e1761237021882.png
ORGANIZER;CN="Small Giants":MAILTO:jenns@smallgiantsonline.com
END:VEVENT
BEGIN:VEVENT
DTSTART;TZID=America/Phoenix:20260326T090000
DTEND;TZID=America/Phoenix:20260326T110000
DTSTAMP:20260420T215838
CREATED:20251023T032445Z
LAST-MODIFIED:20260218T175926Z
UID:10000084-1774515600-1774522800@academyforconstructionexcellence.com
SUMMARY:The Lifecycle of a Project
DESCRIPTION:This session walks through how a construction project takes shape — from planning and execution to completion and facility management. Attendees will explore each phase of a project\, including early project planning\, construction execution\, and the post-construction steps involved in facility management. Learn how each stage connects\, what happens at key milestones\, and who’s involved at every step.\n\nThe Academy for Construction Excellence presents an 8-class series for those individuals new to the construction industry – whether new to their career and experienced professionals from other industries. Also invited? Those who need a refresher course! Upon completion of these classes\, attendees will have a strong knowledge base\, creating confidence\, knowing the key players and processes in commercial construction.\n\nIn each class\, attendees start at a high level and then dive into necessary aspects of these areas:\n\nIntroduction to CRE\, 1/22\nUnderstanding the Proposal Process\, 2/19\nLifecycle of a Project\, 3/26\nDevelopment 101\, 4/23\nIntro to Finance in Construction\, 5/28\nContract Structures and Monthly Pay Apps\, 6/25\nUnderstanding the Basics of Liens and Bonds\, 7/23\nAnatomy of a Legal Proceeding\, 8/20
URL:https://academyforconstructionexcellence.com/class/lifecylce-of-a-project/
LOCATION:The Learning Lab\, 5555 E Van Buren St Suite 115\, Phoenix\, AZ\, 85008\, United States
CATEGORIES:Construction Fundamentals
ATTACH;FMTTYPE=image/png:https://academyforconstructionexcellence.com/wp-content/uploads/2024/04/project.png
END:VEVENT
BEGIN:VEVENT
DTSTART;TZID=America/Phoenix:20260331T143000
DTEND;TZID=America/Phoenix:20260331T163000
DTSTAMP:20260420T215838
CREATED:20250919T005118Z
LAST-MODIFIED:20250919T005415Z
UID:10000080-1774967400-1774974600@academyforconstructionexcellence.com
SUMMARY:Plan Reading: Special Systems
DESCRIPTION:This Academy session teaches attendees how to read construction drawings related to low-voltage systems that support building operations\, safety\, and communication. These systems are increasingly critical in commercial buildings and often require coordination across trades. \nAttendees will learn: \n\n\n\n\nWhat is considered a special system \n\n\nFire alarm systems \n\n\nSecurity systems (CCTV\, card access\, intrusion detection) \n\n\nData/telecom systems (structured cabling\, fiber\, server rooms) \n\n\nAudio/visual systems (PA systems\, digital signage\, conference setups) \n\n\nBuilding automation systems (BAS) \n\n\nNurse call\, intercoms\, and paging (in healthcare or education) \n\n\n\n\n  \n\nThe Plan Reading series consists of these sessions:\n\nOverview and Introduction\, 10/28/25\nCivil Plans\, 11/18/25\nStructural Plans\, 12/4/25\nArchitectural Plans\, 1/6/26\nMechanical Plans\, 1/27/26\nPlumbing Plans\, 2/17/26\nElectrical Plans\, 3/10/26\nSpecial Systems\, 3/31/26\n\nIt is recommended to participate in all Plan Reading classes in-person. If attending virtually\, you will miss the hands-on activities in this session.\n  \nIf attending virtually\, a link will be sent to you a few days prior to the session. Please keep your camera on for maximum engagement.
URL:https://academyforconstructionexcellence.com/class/plan-reading-special-systems/
LOCATION:The Learning Lab\, 5555 E Van Buren St Suite 115\, Phoenix\, AZ\, 85008\, United States
CATEGORIES:Plan Reading
ATTACH;FMTTYPE=image/png:https://academyforconstructionexcellence.com/wp-content/uploads/2024/10/SG_Academy-for-Construction-Excellence_Course-Icons_Plan-Reading-Dark-e1741825295812.png
END:VEVENT
END:VCALENDAR