BEGIN:VCALENDAR
VERSION:2.0
PRODID:-//Academy for Construction Excellence - ECPv6.15.20//NONSGML v1.0//EN
CALSCALE:GREGORIAN
METHOD:PUBLISH
X-WR-CALNAME:Academy for Construction Excellence
X-ORIGINAL-URL:https://academyforconstructionexcellence.com
X-WR-CALDESC:Events for Academy for Construction Excellence
REFRESH-INTERVAL;VALUE=DURATION:PT1H
X-Robots-Tag:noindex
X-PUBLISHED-TTL:PT1H
BEGIN:VTIMEZONE
TZID:America/Phoenix
BEGIN:STANDARD
TZOFFSETFROM:-0700
TZOFFSETTO:-0700
TZNAME:MST
DTSTART:20240101T000000
END:STANDARD
END:VTIMEZONE
BEGIN:VEVENT
DTSTART;TZID=America/Phoenix:20251001T093000
DTEND;TZID=America/Phoenix:20251001T110000
DTSTAMP:20260423T145215
CREATED:20250704T043624Z
LAST-MODIFIED:20250910T002442Z
UID:10000061-1759311000-1759316400@academyforconstructionexcellence.com
SUMMARY:Making Connections and Networking Basics
DESCRIPTION:Attending a networking event can be intimidating. In this class\, Danielle Feroleto of Small Giants will help you navigate these social interactions\, resulting in meaningful conversations and connections. \nAttendees will learn: \n\nHow to prepare for an industry event\nHow to enter a room confidently\nHow to determine which “must-airs” make an industry event productive\nThe various levels of business development\n\n  \n\n\nTaught by Danielle Feroleto\, Small Giants.\n\n\n\nIf attending virtually\, a link will be sent to you a few days prior to the session.
URL:https://academyforconstructionexcellence.com/class/making-connections-networking/
LOCATION:The Learning Lab\, 5555 E Van Buren St Suite 115\, Phoenix\, AZ\, 85008\, United States
CATEGORIES:Networking
ATTACH;FMTTYPE=image/png:https://academyforconstructionexcellence.com/wp-content/uploads/2024/05/SG_Academy-for-Construction-Excellence_Course-Icons_Lessons-in-Leadership-Dark.png
ORGANIZER;CN="Small Giants":MAILTO:jenns@smallgiantsonline.com
END:VEVENT
BEGIN:VEVENT
DTSTART;TZID=America/Phoenix:20251001T140000
DTEND;TZID=America/Phoenix:20251001T160000
DTSTAMP:20260423T145215
CREATED:20250704T053510Z
LAST-MODIFIED:20250809T031326Z
UID:10000062-1759327200-1759334400@academyforconstructionexcellence.com
SUMMARY:Introduction to Project Planning and Master Scheduling
DESCRIPTION:Come learn and help bring the construction industry to an elevated level. Understand how a project should be approached from an execution standpoint\, what good planning can look like\, and how we can bring that into our industry at an elevated level. This is a targeted class for field operational roles in joint effort with pre-construction. \nAttendees will learn the basics of project planning and master scheduling including: \n\n\nProject logistics and planning fundamentals \n\n\nHow to prioritize and pair site logistics\, scheduling\, planning\, and quality control within a Master Schedule \n\n\nIncorporating safety into site logistics\, planning\, and execution \n\n\nCoordinating planning initiatives to support efficient project execution \n\n\nAnd much more \n\n\n  \n\nClass taught by Chris Quigley of Chasse Building Team.\n\n\nIf attending virtually\, a link will be sent to you a few days prior to the session.
URL:https://academyforconstructionexcellence.com/class/introduction-to-project-planning-and-master-scheduling/
LOCATION:The Learning Lab\, 5555 E Van Buren St Suite 115\, Phoenix\, AZ\, 85008\, United States
CATEGORIES:Construction Fundamentals,Project Managers,Skills
ATTACH;FMTTYPE=image/png:https://academyforconstructionexcellence.com/wp-content/uploads/2024/06/SG_Academy-for-Construction-Excellence_Course-Icons_Scheduling-Series-Dark.png
ORGANIZER;CN="Small Giants":MAILTO:jenns@smallgiantsonline.com
END:VEVENT
END:VCALENDAR