BEGIN:VCALENDAR
VERSION:2.0
PRODID:-//Academy for Construction Excellence - ECPv6.15.20//NONSGML v1.0//EN
CALSCALE:GREGORIAN
METHOD:PUBLISH
X-WR-CALNAME:Academy for Construction Excellence
X-ORIGINAL-URL:https://academyforconstructionexcellence.com
X-WR-CALDESC:Events for Academy for Construction Excellence
REFRESH-INTERVAL;VALUE=DURATION:PT1H
X-Robots-Tag:noindex
X-PUBLISHED-TTL:PT1H
BEGIN:VTIMEZONE
TZID:America/Phoenix
BEGIN:STANDARD
TZOFFSETFROM:-0700
TZOFFSETTO:-0700
TZNAME:MST
DTSTART:20240101T000000
END:STANDARD
END:VTIMEZONE
BEGIN:VEVENT
DTSTART;TZID=America/Phoenix:20251028T000000
DTEND;TZID=America/Phoenix:20251028T235900
DTSTAMP:20260421T145123
CREATED:20250919T010451Z
LAST-MODIFIED:20260119T222815Z
UID:10000081-1761609600-1761695940@academyforconstructionexcellence.com
SUMMARY:Plan Reading Series
DESCRIPTION:Plan Reading Series – Full Program Registration\n  \nTake your plan reading skills to the next level by enrolling in the full Plan Reading Series. This eight-part program provides a comprehensive introduction to reading and interpreting construction drawings across all major disciplines: civil\, structural\, architectural\, mechanical\, plumbing\, electrical\, and special systems. \nBy registering for the full series\, attendees will: \n\n\nGain a complete\, start-to-finish understanding of construction plans \n\n\nBuild confidence interpreting drawings from multiple trades \n\n\nApply learning progressively\, with each session building on the last \n\n\nSeries Schedule: \n\n\nOverview and Introduction – 10/28/25 \n\n\nCivil Plans – 11/18/25 \n\n\nStructural Plans – 12/4/25 \n\n\nArchitectural Plans – 1/6/26 \n\n\nMechanical Plans – 1/27/26 \n\n\nPlumbing Plans – 2/17/26 \n\n\nElectrical Plans – 3/10/26 \n\n\nSpecial Systems – 3/31/26 \n\n\n  \nIt is recommended to participate in all Plan Reading classes in-person. If attending virtually\, you will miss the hands-on activities in this session.
URL:https://academyforconstructionexcellence.com/class/plan-reading-series-2/
LOCATION:The Learning Lab\, 5555 E Van Buren St Suite 115\, Phoenix\, AZ\, 85008\, United States
CATEGORIES:Plan Reading
ATTACH;FMTTYPE=image/png:https://academyforconstructionexcellence.com/wp-content/uploads/2024/10/SG_Academy-for-Construction-Excellence_Course-Icons_Plan-Reading-Dark-e1741825295812.png
ORGANIZER;CN="Small Giants":MAILTO:jenns@smallgiantsonline.com
END:VEVENT
BEGIN:VEVENT
DTSTART;TZID=America/Phoenix:20251028T143000
DTEND;TZID=America/Phoenix:20251028T163000
DTSTAMP:20260421T145123
CREATED:20250709T065023Z
LAST-MODIFIED:20250917T002348Z
UID:10000071-1761661800-1761669000@academyforconstructionexcellence.com
SUMMARY:Plan Reading: Introduction
DESCRIPTION:Led by Ben Shuck of Chasse Building Team\, this beginner-level class provides attendees with solid foundation in working with construction drawings. \nAttendees will learn: \n\n\nAn overview of general sheets \n\n\nBasic instructions on how to read a plan \n\n\nCommon terminology\, symbols\, and abbreviations \n\n\nHow to understand scales and dimensions \n\n\nTo interpret details and callouts \n\n\n\n\n\nThe Plan Reading series consists of these sessions:\n\nOverview and Introduction\, 10/28/25\nCivil Plans\, 11/18/25\nStructural Plans\, 12/4/25\nArchitectural Plans\, 1/6/26\nMechanical Plans\, 1/27/26\nPlumbing Plans\, 2/17/26\nElectrical Plans\, 3/10/26\nSpecial Systems\, 3/31/26\n\nTaught by Ben Shuck of Chasse Building Team. \n \n\nIt is recommended to participate in all Plan Reading classes in-person. If attending virtually\, you will miss the hands-on activities in this session.\n\nIf attending virtually\, a link will be sent to you a few days prior to the session.
URL:https://academyforconstructionexcellence.com/class/plan-reading-introduction/
LOCATION:The Learning Lab\, 5555 E Van Buren St Suite 115\, Phoenix\, AZ\, 85008\, United States
CATEGORIES:Plan Reading
ATTACH;FMTTYPE=image/png:https://academyforconstructionexcellence.com/wp-content/uploads/2024/10/SG_Academy-for-Construction-Excellence_Course-Icons_Plan-Reading-Dark-e1741825295812.png
ORGANIZER;CN="Small Giants":MAILTO:jenns@smallgiantsonline.com
END:VEVENT
END:VCALENDAR