BEGIN:VCALENDAR
VERSION:2.0
PRODID:-//Academy for Construction Excellence - ECPv6.15.20//NONSGML v1.0//EN
CALSCALE:GREGORIAN
METHOD:PUBLISH
X-WR-CALNAME:Academy for Construction Excellence
X-ORIGINAL-URL:https://academyforconstructionexcellence.com
X-WR-CALDESC:Events for Academy for Construction Excellence
REFRESH-INTERVAL;VALUE=DURATION:PT1H
X-Robots-Tag:noindex
X-PUBLISHED-TTL:PT1H
BEGIN:VTIMEZONE
TZID:America/Phoenix
BEGIN:STANDARD
TZOFFSETFROM:-0700
TZOFFSETTO:-0700
TZNAME:MST
DTSTART:20250101T000000
END:STANDARD
END:VTIMEZONE
BEGIN:VEVENT
DTSTART;TZID=America/Phoenix:20260305T150000
DTEND;TZID=America/Phoenix:20260305T163000
DTSTAMP:20260424T215352
CREATED:20260130T182221Z
LAST-MODIFIED:20260203T234040Z
UID:10000109-1772722800-1772728200@academyforconstructionexcellence.com
SUMMARY:How To Be An Elite Project Manager
DESCRIPTION:This Academy session\, taught by Anthony “AJ” Jeffers of Hensel Phelps\, explores what it really takes to be a strong and successful project manager in today’s construction environment. Project management requires a mix of leadership\, organization\, and technical knowledge\, and this course is designed to help attendees strengthen those skills. Whether you’re newer to the role or looking to grow your experience\, this session will provide practical takeaways you can apply right away. \nAttendees will learn: \n\nHow to build strong leadership within your team\nWhy clear and effective communication is critical to project success\nWays to strengthen decision-making and overall project oversight\n\nStrengthen your leadership\, communication\, and technical decision-making skills by enrolling in the full Project Manager Series. This seven-part program is designed specifically for construction project managers and covers the critical competencies needed to successfully lead projects\, teams\, and client relationships from pursuit through closeout. In each class\, attendees will focus on key responsibilities project managers manage throughout the project lifecycle: \n\nHow to Be an Elite Project Manager\, 3/5\nPublic Speaking for Project Managers\, 4/1\nFinance in Construction for Project Managers\, 5/12\nPrompt Pay Essentials for Project Managers\, 6/11\nWhat Project Managers Need to Know About Liens and Bonds\, 7/22\nThe Vital Role of Project Managers in the Pursuit Process\, 8/5\nA Focus on Client Retention for Project Managers\, 9/10\n\n\nIf attending virtually\, a link will be sent to you a few days prior to the session. \nThis class is part of the 7-class Project Manager Series\, individual class registration is open to all.
URL:https://academyforconstructionexcellence.com/class/how-to-be-an-elite-project-manager/
LOCATION:The Learning Lab\, 5555 E Van Buren St Suite 115\, Phoenix\, AZ\, 85008\, United States
CATEGORIES:Project Managers
ATTACH;FMTTYPE=image/png:https://academyforconstructionexcellence.com/wp-content/uploads/2024/04/project.png
ORGANIZER;CN="Small Giants":MAILTO:jenns@smallgiantsonline.com
END:VEVENT
BEGIN:VEVENT
DTSTART;TZID=America/Phoenix:20260305T150000
DTEND;TZID=America/Phoenix:20260305T163000
DTSTAMP:20260424T215352
CREATED:20260130T192044Z
LAST-MODIFIED:20260213T211917Z
UID:10000116-1772722800-1772728200@academyforconstructionexcellence.com
SUMMARY:Project Manager Series
DESCRIPTION:Project Manager Series – Full Program Registration\n  \nStrengthen your leadership\, communication\, and technical decision-making skills by enrolling in the full Project Manager Series. This seven-part program is designed specifically for construction project managers and covers the critical competencies needed to successfully lead projects\, teams\, and client relationships from pursuit through closeout. \nBy registering for the full series\, attendees will: \n\n\nDevelop advanced project management and leadership skills \n\n\nEnhance communication\, financial\, and contractual understanding \n\n\nGain practical tools to manage risk\, payments\, and client expectations \n\n\nApply learning across the project lifecycle\, with each session building on the last \n\n\nSeries Schedule: \n\nHow to Be an Elite Project Manager – 3/5: Anthony Jeffers\, Hensel Phelps \nPublic Speaking for Project Managers – 4/1: Brandon Montero\, CHASSE Building Team\nFinance in Construction for Project Managers – 5/12: Matt Waller\, PopeWaller\nPrompt Pay Essentials for Project Managers – 6/11: Kevin Estevez\, Holden Willits\nWhat Project Managers Need to Know About Liens and Bonds– 7/22: Amy Houk\, RCS Preliminary Lien Services\nThe Vital Role of a Project Manager in the Pursuit Process – 8/5: Margaret Kinsey\, Small Giants\nA Focus on Client Retention for Project Managers – 9/10: Danielle Feroleto\, Small Giants\n\nAll sessions run from 3:00–4:30 PM. \nIt is recommended to attend Project Manager Series classes in person for the best overall learning experience.
URL:https://academyforconstructionexcellence.com/class/project-manager-series/
LOCATION:The Learning Lab\, 5555 E Van Buren St Suite 115\, Phoenix\, AZ\, 85008\, United States
CATEGORIES:Project Managers
ATTACH;FMTTYPE=image/png:https://academyforconstructionexcellence.com/wp-content/uploads/2024/04/project.png
ORGANIZER;CN="Small Giants":MAILTO:jenns@smallgiantsonline.com
END:VEVENT
END:VCALENDAR