BEGIN:VCALENDAR
VERSION:2.0
PRODID:-//Academy for Construction Excellence - ECPv6.15.20//NONSGML v1.0//EN
CALSCALE:GREGORIAN
METHOD:PUBLISH
X-WR-CALNAME:Academy for Construction Excellence
X-ORIGINAL-URL:https://academyforconstructionexcellence.com
X-WR-CALDESC:Events for Academy for Construction Excellence
REFRESH-INTERVAL;VALUE=DURATION:PT1H
X-Robots-Tag:noindex
X-PUBLISHED-TTL:PT1H
BEGIN:VTIMEZONE
TZID:America/Phoenix
BEGIN:STANDARD
TZOFFSETFROM:-0700
TZOFFSETTO:-0700
TZNAME:MST
DTSTART:20250101T000000
END:STANDARD
END:VTIMEZONE
BEGIN:VEVENT
DTSTART;TZID=America/Phoenix:20260331T143000
DTEND;TZID=America/Phoenix:20260331T163000
DTSTAMP:20260421T071534
CREATED:20250919T005118Z
LAST-MODIFIED:20250919T005415Z
UID:10000080-1774967400-1774974600@academyforconstructionexcellence.com
SUMMARY:Plan Reading: Special Systems
DESCRIPTION:This Academy session teaches attendees how to read construction drawings related to low-voltage systems that support building operations\, safety\, and communication. These systems are increasingly critical in commercial buildings and often require coordination across trades. \nAttendees will learn: \n\n\n\n\nWhat is considered a special system \n\n\nFire alarm systems \n\n\nSecurity systems (CCTV\, card access\, intrusion detection) \n\n\nData/telecom systems (structured cabling\, fiber\, server rooms) \n\n\nAudio/visual systems (PA systems\, digital signage\, conference setups) \n\n\nBuilding automation systems (BAS) \n\n\nNurse call\, intercoms\, and paging (in healthcare or education) \n\n\n\n\n  \n\nThe Plan Reading series consists of these sessions:\n\nOverview and Introduction\, 10/28/25\nCivil Plans\, 11/18/25\nStructural Plans\, 12/4/25\nArchitectural Plans\, 1/6/26\nMechanical Plans\, 1/27/26\nPlumbing Plans\, 2/17/26\nElectrical Plans\, 3/10/26\nSpecial Systems\, 3/31/26\n\nIt is recommended to participate in all Plan Reading classes in-person. If attending virtually\, you will miss the hands-on activities in this session.\n  \nIf attending virtually\, a link will be sent to you a few days prior to the session. Please keep your camera on for maximum engagement.
URL:https://academyforconstructionexcellence.com/class/plan-reading-special-systems/
LOCATION:The Learning Lab\, 5555 E Van Buren St Suite 115\, Phoenix\, AZ\, 85008\, United States
CATEGORIES:Plan Reading
ATTACH;FMTTYPE=image/png:https://academyforconstructionexcellence.com/wp-content/uploads/2024/10/SG_Academy-for-Construction-Excellence_Course-Icons_Plan-Reading-Dark-e1741825295812.png
END:VEVENT
END:VCALENDAR