BEGIN:VCALENDAR
VERSION:2.0
PRODID:-//Academy for Construction Excellence - ECPv6.15.20//NONSGML v1.0//EN
CALSCALE:GREGORIAN
METHOD:PUBLISH
X-WR-CALNAME:Academy for Construction Excellence
X-ORIGINAL-URL:https://academyforconstructionexcellence.com
X-WR-CALDESC:Events for Academy for Construction Excellence
REFRESH-INTERVAL;VALUE=DURATION:PT1H
X-Robots-Tag:noindex
X-PUBLISHED-TTL:PT1H
BEGIN:VTIMEZONE
TZID:America/Phoenix
BEGIN:STANDARD
TZOFFSETFROM:-0700
TZOFFSETTO:-0700
TZNAME:MST
DTSTART:20250101T000000
END:STANDARD
END:VTIMEZONE
BEGIN:VEVENT
DTSTART;TZID=America/Phoenix:20260722T150000
DTEND;TZID=America/Phoenix:20260722T163000
DTSTAMP:20260425T065125
CREATED:20260130T185504Z
LAST-MODIFIED:20260213T162800Z
UID:10000113-1784732400-1784737800@academyforconstructionexcellence.com
SUMMARY:What Project Managers Need to Know About Liens and Bonds
DESCRIPTION:Taught by Amy Houk of RCS Preliminary Lien Services\, this Academy session helps project managers understand the essentials of liens and bonds and how they impact construction projects. Proper management of these tools is key to protecting your company\, ensuring payment\, and keeping projects running smoothly. This class provides practical strategies for managing risk and maintaining strong relationships with clients and subcontractors. \nAttendees will learn: \n\nThe basics of mechanics liens and payment bonds\nHow to identify and manage lien and bond risks on projects\nStrategies to protect your company and maintain project cash flow\n\nStrengthen your leadership\, communication\, and technical decision-making skills by enrolling in the full Project Manager Series. This seven-part program is designed specifically for construction project managers and covers the critical competencies needed to successfully lead projects\, teams\, and client relationships from pursuit through closeout. In each class\, attendees will focus on key responsibilities project managers manage throughout the project lifecycle: \n\nHow to Be an Elite Project Manager\, 3/5\nPublic Speaking for Project Managers\, 4/1\nFinance in Construction for Project Managers\, 5/12\nPrompt Pay Essentials for Project Managers\, 6/11\nWhat Project Managers Need to Know About Liens and Bonds\, 7/22\nThe Vital Role of Project Managers in the Pursuit Process\, 8/5\nA Focus on Client Retention for Project Managers\, 9/10\n\n\nIf attending virtually\, a link will be sent to you a few days prior to the session. \nThis class is part of the 7-class Project Manager Series\, individual class registration is open to all.
URL:https://academyforconstructionexcellence.com/class/what-project-managers-need-to-know-about-liens-and-bonds/
LOCATION:The Learning Lab\, 5555 E Van Buren St Suite 115\, Phoenix\, AZ\, 85008\, United States
CATEGORIES:Project Managers
ATTACH;FMTTYPE=image/png:https://academyforconstructionexcellence.com/wp-content/uploads/2024/04/project.png
ORGANIZER;CN="Small Giants":MAILTO:jenns@smallgiantsonline.com
END:VEVENT
BEGIN:VEVENT
DTSTART;TZID=America/Phoenix:20260723T090000
DTEND;TZID=America/Phoenix:20260723T103000
DTSTAMP:20260425T065125
CREATED:20251023T040402Z
LAST-MODIFIED:20260417T182006Z
UID:10000088-1784797200-1784802600@academyforconstructionexcellence.com
SUMMARY:Understanding the Basics of Liens and Bonds
DESCRIPTION:This Academy session introduces the fundamentals of lien law and bond claims — key tools that protect financial rights in construction projects. Attendees will learn how to send Preliminary and Supplemental Notices\, understand the basics of Arizona Lien Waivers\, and know how to file Mechanics Liens\, Bond Claims\, and Leasehold Interest Liens. The session also provides an overview of the foreclosure process and how these legal mechanisms work together to safeguard payments and manage risk on a project.\n\nThe Academy for Construction Excellence presents an 8-class series for those individuals new to the construction industry – whether new to their career and experienced professionals from other industries. Also invited? Those who need a refresher course! Upon completion of these classes\, attendees will have a strong knowledge base\, creating confidence\, knowing the key players and processes in commercial construction.\n\nIn each class\, attendees start at a high level and then dive into necessary aspects of these areas:\n\nIntroduction to CRE\, 1/22\nUnderstanding the Proposal Process\, 2/19\nLifecycle of a Project\, 3/26\nDevelopment 101\, 4/23\nIntro to Finance in Construction\, 5/28\nContract Structures and Monthly Pay Apps\, 6/30\nUnderstanding the Basics of Liens and Bonds\, 7/23\nAnatomy of a Legal Proceeding\, 8/20
URL:https://academyforconstructionexcellence.com/class/understanding-the-basics-of-liens-and-bond/
LOCATION:The Learning Lab\, 5555 E Van Buren St Suite 115\, Phoenix\, AZ\, 85008\, United States
CATEGORIES:Construction Fundamentals
ATTACH;FMTTYPE=image/png:https://academyforconstructionexcellence.com/wp-content/uploads/2024/10/SG_Academy-for-Construction-Excellence_Course-Icons_Construction-Administration-Dark-e1741825396841.png
END:VEVENT
END:VCALENDAR